BEGIN:VCALENDAR
VERSION:2.0
PRODID:-//The Sanctuary Of Healing - ECPv6.0.6.2//NONSGML v1.0//EN
CALSCALE:GREGORIAN
METHOD:PUBLISH
X-ORIGINAL-URL:https://sanctuaryofhealing.co.uk
X-WR-CALDESC:Events for The Sanctuary Of Healing
REFRESH-INTERVAL;VALUE=DURATION:PT1H
X-Robots-Tag:noindex
X-PUBLISHED-TTL:PT1H
BEGIN:VTIMEZONE
TZID:UTC
BEGIN:STANDARD
TZOFFSETFROM:+0000
TZOFFSETTO:+0000
TZNAME:UTC
DTSTART:20240101T000000
END:STANDARD
END:VTIMEZONE
BEGIN:VEVENT
DTSTART;TZID=UTC:20240107T183000
DTEND;TZID=UTC:20240107T200000
DTSTAMP:20260426T024035
CREATED:20231231T162444Z
LAST-MODIFIED:20231231T164438Z
UID:29643-1704652200-1704657600@sanctuaryofhealing.co.uk
SUMMARY:Church Service
DESCRIPTION:We are delighted to welcome back to the Sanctuary the excellent Medium\, Janet Mills\, who is taking our annual re-dedication church service at 6.30pm on Sunday 7th January 2024. We know that we will have an excellent service and demonstration of Spirit communication with Janet.
URL:https://sanctuaryofhealing.co.uk/event/church-service-215/
END:VEVENT
END:VCALENDAR