BEGIN:VCALENDAR
VERSION:2.0
PRODID:-//The Sanctuary Of Healing - ECPv6.0.6.2//NONSGML v1.0//EN
CALSCALE:GREGORIAN
METHOD:PUBLISH
X-WR-CALNAME:The Sanctuary Of Healing
X-ORIGINAL-URL:https://sanctuaryofhealing.co.uk
X-WR-CALDESC:Events for The Sanctuary Of Healing
REFRESH-INTERVAL;VALUE=DURATION:PT1H
X-Robots-Tag:noindex
X-PUBLISHED-TTL:PT1H
BEGIN:VTIMEZONE
TZID:UTC
BEGIN:STANDARD
TZOFFSETFROM:+0000
TZOFFSETTO:+0000
TZNAME:UTC
DTSTART:20240101T000000
END:STANDARD
END:VTIMEZONE
BEGIN:VEVENT
DTSTART;TZID=UTC:20240119T193000
DTEND;TZID=UTC:20240119T210000
DTSTAMP:20260426T025032
CREATED:20231231T165606Z
LAST-MODIFIED:20231231T171009Z
UID:29657-1705692600-1705698000@sanctuaryofhealing.co.uk
SUMMARY:Evening of Clairvoyance
DESCRIPTION:We are delighted to welcome back to the Sanctuary the superb Medium\, Kim Collier for our Evening of Clairvoyance at 7.30pm on Friday 19th January 2024. We know that we will have an excellent demonstration of Spirit communication with Kim. Admission is £3.00 for members and £4.00 for non-members
URL:https://sanctuaryofhealing.co.uk/event/evening-of-clairvoyance-245/
END:VEVENT
END:VCALENDAR