BEGIN:VCALENDAR
VERSION:2.0
PRODID:-//The Sanctuary Of Healing - ECPv6.0.6.2//NONSGML v1.0//EN
CALSCALE:GREGORIAN
METHOD:PUBLISH
X-ORIGINAL-URL:https://sanctuaryofhealing.co.uk
X-WR-CALDESC:Events for The Sanctuary Of Healing
REFRESH-INTERVAL;VALUE=DURATION:PT1H
X-Robots-Tag:noindex
X-PUBLISHED-TTL:PT1H
BEGIN:VTIMEZONE
TZID:UTC
BEGIN:STANDARD
TZOFFSETFROM:+0000
TZOFFSETTO:+0000
TZNAME:UTC
DTSTART:20240101T000000
END:STANDARD
END:VTIMEZONE
BEGIN:VEVENT
DTSTART;TZID=UTC:20240202T193000
DTEND;TZID=UTC:20240202T210000
DTSTAMP:20260426T025631
CREATED:20240131T133110Z
LAST-MODIFIED:20240131T133201Z
UID:29675-1706902200-1706907600@sanctuaryofhealing.co.uk
SUMMARY:Evening of Clairvoyance
DESCRIPTION:We are delighted to welcome back to the Sanctuary the excellent Medium\,  Philip Holden for our Evening of Clairvoyance at 7.30pm on Friday 2nd February 2024. We know that we will have an superb demonstration of Spirit communication with Philip. Admission is £3.00 for members and £4.00 for non-members
URL:https://sanctuaryofhealing.co.uk/event/evening-of-clairvoyance-247/
END:VEVENT
END:VCALENDAR