BEGIN:VCALENDAR
VERSION:2.0
PRODID:-//The Sanctuary Of Healing - ECPv6.0.6.2//NONSGML v1.0//EN
CALSCALE:GREGORIAN
METHOD:PUBLISH
X-WR-CALNAME:The Sanctuary Of Healing
X-ORIGINAL-URL:https://sanctuaryofhealing.co.uk
X-WR-CALDESC:Events for The Sanctuary Of Healing
REFRESH-INTERVAL;VALUE=DURATION:PT1H
X-Robots-Tag:noindex
X-PUBLISHED-TTL:PT1H
BEGIN:VTIMEZONE
TZID:UTC
BEGIN:STANDARD
TZOFFSETFROM:+0000
TZOFFSETTO:+0000
TZNAME:UTC
DTSTART:20240101T000000
END:STANDARD
END:VTIMEZONE
BEGIN:VEVENT
DTSTART;TZID=UTC:20240203T183000
DTEND;TZID=UTC:20240203T200000
DTSTAMP:20260426T025454
CREATED:20240209T144147Z
LAST-MODIFIED:20240209T144253Z
UID:29731-1706985000-1706990400@sanctuaryofhealing.co.uk
SUMMARY:Church Service
DESCRIPTION:We are delighted to welcome back to the Sanctuary the superb Medium\, Karen Hambleton-Owen\, who is taking our church service at 6.30pm on Sunday 3rd March 2024. We know that we will have an excellent service and demonstration of Spirit communication with Karen. 
URL:https://sanctuaryofhealing.co.uk/event/church-service-223/
END:VEVENT
END:VCALENDAR