BEGIN:VCALENDAR
VERSION:2.0
PRODID:-//The Sanctuary Of Healing - ECPv6.0.6.2//NONSGML v1.0//EN
CALSCALE:GREGORIAN
METHOD:PUBLISH
X-ORIGINAL-URL:https://sanctuaryofhealing.co.uk
X-WR-CALDESC:Events for The Sanctuary Of Healing
REFRESH-INTERVAL;VALUE=DURATION:PT1H
X-Robots-Tag:noindex
X-PUBLISHED-TTL:PT1H
BEGIN:VTIMEZONE
TZID:UTC
BEGIN:STANDARD
TZOFFSETFROM:+0000
TZOFFSETTO:+0000
TZNAME:UTC
DTSTART:20240101T000000
END:STANDARD
END:VTIMEZONE
BEGIN:VEVENT
DTSTART;TZID=UTC:20240207T103000
DTEND;TZID=UTC:20240207T123000
DTSTAMP:20260426T043012
CREATED:20240131T134227Z
LAST-MODIFIED:20240131T134227Z
UID:29679-1707301800-1707309000@sanctuaryofhealing.co.uk
SUMMARY:Spiritual Healing
DESCRIPTION:The Sanctuary of Healing\, is open to the public for spiritual healing every Wednesday morning between 10.30am and 12.30pm\, for a donation only
URL:https://sanctuaryofhealing.co.uk/event/spiritual-healing-298/
END:VEVENT
BEGIN:VEVENT
DTSTART;TZID=UTC:20240207T193000
DTEND;TZID=UTC:20240207T210000
DTSTAMP:20260426T043012
CREATED:20240131T134829Z
LAST-MODIFIED:20240131T134829Z
UID:29681-1707334200-1707339600@sanctuaryofhealing.co.uk
SUMMARY:Special Evening of Clairvoyance with Keith Thompson and Spirit Orbs
DESCRIPTION:On Wednesday\, 7th February 2024\, we are delighted to welcome the superb Medium Keith Thompson for a very special Evening of Clairvoyance. Once again Keith will bring his infra-red camera and TV monitor and we will have the privilege once again to see spirit orbs floating about the church through the monitor screen when Keith is giving his readings. Admission is £5.00 for all.
URL:https://sanctuaryofhealing.co.uk/event/special-evening-of-clairvoyance-with-keith-thompson-and-spirit-orbs-2/
END:VEVENT
BEGIN:VEVENT
DTSTART;TZID=UTC:20240207T193000
DTEND;TZID=UTC:20240207T210000
DTSTAMP:20260426T043012
CREATED:20240131T141638Z
LAST-MODIFIED:20240131T141638Z
UID:29692-1707334200-1707339600@sanctuaryofhealing.co.uk
SUMMARY:Postponed Evening Development Circle
DESCRIPTION:We regret to inform Circle members that the evening development Circle has been postponed from the 7th February to the 14th February at 7.30pm.
URL:https://sanctuaryofhealing.co.uk/event/postponed-evening-development-circle-2/
END:VEVENT
END:VCALENDAR