BEGIN:VCALENDAR
VERSION:2.0
PRODID:-//The Sanctuary Of Healing - ECPv6.0.6.2//NONSGML v1.0//EN
CALSCALE:GREGORIAN
METHOD:PUBLISH
X-WR-CALNAME:The Sanctuary Of Healing
X-ORIGINAL-URL:https://sanctuaryofhealing.co.uk
X-WR-CALDESC:Events for The Sanctuary Of Healing
REFRESH-INTERVAL;VALUE=DURATION:PT1H
X-Robots-Tag:noindex
X-PUBLISHED-TTL:PT1H
BEGIN:VTIMEZONE
TZID:UTC
BEGIN:STANDARD
TZOFFSETFROM:+0000
TZOFFSETTO:+0000
TZNAME:UTC
DTSTART:20240101T000000
END:STANDARD
END:VTIMEZONE
BEGIN:VEVENT
DTSTART;TZID=UTC:20240211T183000
DTEND;TZID=UTC:20240211T200000
DTSTAMP:20260426T042849
CREATED:20240131T140327Z
LAST-MODIFIED:20240131T145955Z
UID:29686-1707676200-1707681600@sanctuaryofhealing.co.uk
SUMMARY:Church Service
DESCRIPTION:We are delighted to welcome to the Sanctuary the excellent Medium\, Margaret Smith\, who is taking our church service at 6.30pm on Sunday 11th February 2024. We look forward to an excellent service and demonstration of Spirit communication with Margaret. We are now also modifying the service by playing some songs as well as Hymns.
URL:https://sanctuaryofhealing.co.uk/event/church-service-220/
END:VEVENT
END:VCALENDAR