BEGIN:VCALENDAR
VERSION:2.0
PRODID:-//The Sanctuary Of Healing - ECPv6.0.6.2//NONSGML v1.0//EN
CALSCALE:GREGORIAN
METHOD:PUBLISH
X-WR-CALNAME:The Sanctuary Of Healing
X-ORIGINAL-URL:https://sanctuaryofhealing.co.uk
X-WR-CALDESC:Events for The Sanctuary Of Healing
REFRESH-INTERVAL;VALUE=DURATION:PT1H
X-Robots-Tag:noindex
X-PUBLISHED-TTL:PT1H
BEGIN:VTIMEZONE
TZID:UTC
BEGIN:STANDARD
TZOFFSETFROM:+0000
TZOFFSETTO:+0000
TZNAME:UTC
DTSTART:20240101T000000
END:STANDARD
END:VTIMEZONE
BEGIN:VEVENT
DTSTART;TZID=UTC:20240214T103000
DTEND;TZID=UTC:20240214T123000
DTSTAMP:20260426T042849
CREATED:20240131T140709Z
LAST-MODIFIED:20240131T140709Z
UID:29688-1707906600-1707913800@sanctuaryofhealing.co.uk
SUMMARY:Spiritual Healing
DESCRIPTION:The Sanctuary of Healing\, is open to the public for spiritual healing every Wednesday morning between 10.30am and 12.30pm\, for a donation only
URL:https://sanctuaryofhealing.co.uk/event/spiritual-healing-299/
END:VEVENT
BEGIN:VEVENT
DTSTART;TZID=UTC:20240214T193000
DTEND;TZID=UTC:20240214T210000
DTSTAMP:20260426T042849
CREATED:20240131T141333Z
LAST-MODIFIED:20240131T141333Z
UID:29690-1707939000-1707944400@sanctuaryofhealing.co.uk
SUMMARY:Postponed Evening Development Circle
DESCRIPTION:We regret to inform Circle members that the evening development Circle has been postponed from the 7th February to the 14th February at 7.30pm.
URL:https://sanctuaryofhealing.co.uk/event/postponed-evening-development-circle/
END:VEVENT
END:VCALENDAR