BEGIN:VCALENDAR
VERSION:2.0
PRODID:-//The Sanctuary Of Healing - ECPv6.0.6.2//NONSGML v1.0//EN
CALSCALE:GREGORIAN
METHOD:PUBLISH
X-ORIGINAL-URL:https://sanctuaryofhealing.co.uk
X-WR-CALDESC:Events for The Sanctuary Of Healing
REFRESH-INTERVAL;VALUE=DURATION:PT1H
X-Robots-Tag:noindex
X-PUBLISHED-TTL:PT1H
BEGIN:VTIMEZONE
TZID:UTC
BEGIN:STANDARD
TZOFFSETFROM:+0000
TZOFFSETTO:+0000
TZNAME:UTC
DTSTART:20240101T000000
END:STANDARD
END:VTIMEZONE
BEGIN:VEVENT
DTSTART;TZID=UTC:20240217T110000
DTEND;TZID=UTC:20240217T123000
DTSTAMP:20260426T043012
CREATED:20240216T142842Z
LAST-MODIFIED:20240216T142842Z
UID:29749-1708167600-1708173000@sanctuaryofhealing.co.uk
SUMMARY:Guided Meditation Circle
DESCRIPTION:Rene Herbert’s Guided Meditation circle will take place at 11.00 am on Saturday 17th February. If you are feeling stressed or out of sorts you may find a guided meditation will help you to relax and feel better. All are welcome. Admission is £3.00 to help with utility costs\,
URL:https://sanctuaryofhealing.co.uk/event/guided-meditation-circle/
END:VEVENT
END:VCALENDAR