BEGIN:VCALENDAR
VERSION:2.0
PRODID:-//The Sanctuary Of Healing - ECPv6.0.6.2//NONSGML v1.0//EN
CALSCALE:GREGORIAN
METHOD:PUBLISH
X-WR-CALNAME:The Sanctuary Of Healing
X-ORIGINAL-URL:https://sanctuaryofhealing.co.uk
X-WR-CALDESC:Events for The Sanctuary Of Healing
REFRESH-INTERVAL;VALUE=DURATION:PT1H
X-Robots-Tag:noindex
X-PUBLISHED-TTL:PT1H
BEGIN:VTIMEZONE
TZID:UTC
BEGIN:STANDARD
TZOFFSETFROM:+0000
TZOFFSETTO:+0000
TZNAME:UTC
DTSTART:20240101T000000
END:STANDARD
END:VTIMEZONE
BEGIN:VEVENT
DTSTART;TZID=UTC:20240221T103000
DTEND;TZID=UTC:20240221T123000
DTSTAMP:20260426T042848
CREATED:20240131T144032Z
LAST-MODIFIED:20240131T144133Z
UID:29702-1708511400-1708518600@sanctuaryofhealing.co.uk
SUMMARY:Spiritual Healing
DESCRIPTION:The Sanctuary of Healing\, is open to the public for spiritual healing every Wednesday morning between 10.30am and 12.30pm\, for a donation only
URL:https://sanctuaryofhealing.co.uk/event/spiritual-healing-300/
END:VEVENT
END:VCALENDAR