BEGIN:VCALENDAR
VERSION:2.0
PRODID:-//The Sanctuary Of Healing - ECPv6.0.6.2//NONSGML v1.0//EN
CALSCALE:GREGORIAN
METHOD:PUBLISH
X-WR-CALNAME:The Sanctuary Of Healing
X-ORIGINAL-URL:https://sanctuaryofhealing.co.uk
X-WR-CALDESC:Events for The Sanctuary Of Healing
REFRESH-INTERVAL;VALUE=DURATION:PT1H
X-Robots-Tag:noindex
X-PUBLISHED-TTL:PT1H
BEGIN:VTIMEZONE
TZID:UTC
BEGIN:STANDARD
TZOFFSETFROM:+0000
TZOFFSETTO:+0000
TZNAME:UTC
DTSTART:20240101T000000
END:STANDARD
END:VTIMEZONE
BEGIN:VEVENT
DTSTART;TZID=UTC:20240223T193000
DTEND;TZID=UTC:20240223T210000
DTSTAMP:20260426T042842
CREATED:20240131T144620Z
LAST-MODIFIED:20240131T144620Z
UID:29705-1708716600-1708722000@sanctuaryofhealing.co.uk
SUMMARY:Evening of Clairvoyance
DESCRIPTION:We are delighted to welcome back to the Sanctuary the superb Medium\,  Craig O’Malley for our Evening of Clairvoyance at 7.30pm on Friday on 23rd February 2024. We know that we will have an excellent demonstration of Spirit communication with Craig. Admission is £3.00 for members and £4.00 for non-members
URL:https://sanctuaryofhealing.co.uk/event/evening-of-clairvoyance-250/
END:VEVENT
END:VCALENDAR