BEGIN:VCALENDAR
VERSION:2.0
PRODID:-//The Sanctuary Of Healing - ECPv6.0.6.2//NONSGML v1.0//EN
CALSCALE:GREGORIAN
METHOD:PUBLISH
X-WR-CALNAME:The Sanctuary Of Healing
X-ORIGINAL-URL:https://sanctuaryofhealing.co.uk
X-WR-CALDESC:Events for The Sanctuary Of Healing
REFRESH-INTERVAL;VALUE=DURATION:PT1H
X-Robots-Tag:noindex
X-PUBLISHED-TTL:PT1H
BEGIN:VTIMEZONE
TZID:UTC
BEGIN:STANDARD
TZOFFSETFROM:+0000
TZOFFSETTO:+0000
TZNAME:UTC
DTSTART:20230101T000000
END:STANDARD
END:VTIMEZONE
BEGIN:VEVENT
DTSTART;TZID=UTC:20231201T193000
DTEND;TZID=UTC:20231201T210000
DTSTAMP:20260426T025454
CREATED:20231130T132808Z
LAST-MODIFIED:20231130T132956Z
UID:29617-1701459000-1701464400@sanctuaryofhealing.co.uk
SUMMARY:Evening of Clairvoyance
DESCRIPTION:We are delighted to welcome back to the Sanctuary the excellent Medium\, Kevin Sansom for our Evening of Clairvoyance at 7.30pm on Friday 1st December 2023. We know that we will have an excellent demonstration of Spirit communication with Kevin. Admission is £3.00 for members and £4.00 for non-members
URL:https://sanctuaryofhealing.co.uk/event/evening-of-clairvoyance-242/
END:VEVENT
BEGIN:VEVENT
DTSTART;TZID=UTC:20231203T183000
DTEND;TZID=UTC:20231203T200000
DTSTAMP:20260426T025454
CREATED:20231130T133540Z
LAST-MODIFIED:20231130T133540Z
UID:29619-1701628200-1701633600@sanctuaryofhealing.co.uk
SUMMARY:Church Service
DESCRIPTION:We are delighted to welcome back to the Sanctuary the superb Medium\, Kim Collier\, who is taking our church service at 6.30pm on Sunday 3rd December 2023. We know that we will have an excellent service and demonstration of Spirit communication with Kim.
URL:https://sanctuaryofhealing.co.uk/event/church-service-213/
END:VEVENT
BEGIN:VEVENT
DTSTART;TZID=UTC:20231206T103000
DTEND;TZID=UTC:20231206T123000
DTSTAMP:20260426T025454
CREATED:20231130T134309Z
LAST-MODIFIED:20231203T122538Z
UID:29623-1701858600-1701865800@sanctuaryofhealing.co.uk
SUMMARY:Spiritual Healing
DESCRIPTION:This Wednesday morning\, 6th December\, is the last day of this year that the church is open to the public for a weekly session of spiritual healing between 10.30am and 12.30pm for a donation only. 
URL:https://sanctuaryofhealing.co.uk/event/spiritual-healing-295/
END:VEVENT
BEGIN:VEVENT
DTSTART;TZID=UTC:20231208T193000
DTEND;TZID=UTC:20231208T210000
DTSTAMP:20260426T025454
CREATED:20231130T134820Z
LAST-MODIFIED:20231130T134820Z
UID:29625-1702063800-1702069200@sanctuaryofhealing.co.uk
SUMMARY:Evening of Clairvoyance
DESCRIPTION:We are delighted to welcome back to the Sanctuary the excellent Mediums\, Janet Mills and Derek Arrowsmith for our Evening of Clairvoyance at 7.30pm on Friday 8th December 2023. We know that we will have an excellent demonstration of Spirit communication with Janet and Derek. Admission is £3.00 for members and £4.00 for non-members
URL:https://sanctuaryofhealing.co.uk/event/evening-of-clairvoyance-243/
END:VEVENT
BEGIN:VEVENT
DTSTART;TZID=UTC:20231210T183000
DTEND;TZID=UTC:20231210T200000
DTSTAMP:20260426T025454
CREATED:20231130T135155Z
LAST-MODIFIED:20231130T135155Z
UID:29627-1702233000-1702238400@sanctuaryofhealing.co.uk
SUMMARY:Church Service
DESCRIPTION:We are delighted to welcome back to the Sanctuary the superb Medium\, Tina Muddle\, who is taking our church service at 6.30pm on Sunday 10th December 2023. We know that we will have an excellent service and demonstration of Spirit communication with Tina.
URL:https://sanctuaryofhealing.co.uk/event/church-service-214/
END:VEVENT
BEGIN:VEVENT
DTSTART;TZID=UTC:20231215T193000
DTEND;TZID=UTC:20231215T210000
DTSTAMP:20260426T025454
CREATED:20231130T135625Z
LAST-MODIFIED:20231130T135625Z
UID:29629-1702668600-1702674000@sanctuaryofhealing.co.uk
SUMMARY:No Evening of Clairvoyance Tonight
DESCRIPTION:No evening of clairvoyance due to the proximity of Christmas
URL:https://sanctuaryofhealing.co.uk/event/no-evening-of-clairvoyance-tonight-11/
END:VEVENT
BEGIN:VEVENT
DTSTART;TZID=UTC:20231217T183000
DTEND;TZID=UTC:20231217T200000
DTSTAMP:20260426T025454
CREATED:20231130T140114Z
LAST-MODIFIED:20231216T114458Z
UID:29631-1702837800-1702843200@sanctuaryofhealing.co.uk
SUMMARY:Church Carol Service
DESCRIPTION:We are delighted to welcome back to the Sanctuary the excellent Medium\, Janet Mills\, who is taking our annual church carol service at 6.30pm on Sunday 17th December 2023. We know that we will have a lovely service with Janet. There will be mince pies and sherry after the service or tea and coffee if you prefer.
URL:https://sanctuaryofhealing.co.uk/event/church-carol-service-5/
END:VEVENT
BEGIN:VEVENT
DTSTART;TZID=UTC:20231222T193000
DTEND;TZID=UTC:20231222T210000
DTSTAMP:20260426T025454
CREATED:20231130T140511Z
LAST-MODIFIED:20231130T140511Z
UID:29633-1703273400-1703278800@sanctuaryofhealing.co.uk
SUMMARY:No Evening of Clairvoyance Tonight
DESCRIPTION:No evening of clairvoyance due to the proximity of Christmas
URL:https://sanctuaryofhealing.co.uk/event/no-evening-of-clairvoyance-tonight-12/
END:VEVENT
BEGIN:VEVENT
DTSTART;TZID=UTC:20231224T223000
DTEND;TZID=UTC:20231225T000000
DTSTAMP:20260426T025454
CREATED:20231201T112933Z
LAST-MODIFIED:20231201T113036Z
UID:29635-1703457000-1703462400@sanctuaryofhealing.co.uk
SUMMARY:Christmas Midnight Service
DESCRIPTION:We are delighted to welcome all our members and friends to our Christmas Midnight Service which begins at 10.30pm on Christmas Eve. This is a lovely service of Carols and Readings with the excellent Medium Janet Mills.
URL:https://sanctuaryofhealing.co.uk/event/christmas-midnight-service-2/
END:VEVENT
END:VCALENDAR