BEGIN:VCALENDAR
VERSION:2.0
PRODID:-//The Sanctuary Of Healing - ECPv6.0.6.2//NONSGML v1.0//EN
CALSCALE:GREGORIAN
METHOD:PUBLISH
X-WR-CALNAME:The Sanctuary Of Healing
X-ORIGINAL-URL:https://sanctuaryofhealing.co.uk
X-WR-CALDESC:Events for The Sanctuary Of Healing
REFRESH-INTERVAL;VALUE=DURATION:PT1H
X-Robots-Tag:noindex
X-PUBLISHED-TTL:PT1H
BEGIN:VTIMEZONE
TZID:UTC
BEGIN:STANDARD
TZOFFSETFROM:+0000
TZOFFSETTO:+0000
TZNAME:UTC
DTSTART:20240101T000000
END:STANDARD
END:VTIMEZONE
BEGIN:VEVENT
DTSTART;TZID=UTC:20240107T183000
DTEND;TZID=UTC:20240107T200000
DTSTAMP:20260426T010230
CREATED:20231231T162444Z
LAST-MODIFIED:20231231T164438Z
UID:29643-1704652200-1704657600@sanctuaryofhealing.co.uk
SUMMARY:Church Service
DESCRIPTION:We are delighted to welcome back to the Sanctuary the excellent Medium\, Janet Mills\, who is taking our annual re-dedication church service at 6.30pm on Sunday 7th January 2024. We know that we will have an excellent service and demonstration of Spirit communication with Janet.
URL:https://sanctuaryofhealing.co.uk/event/church-service-215/
END:VEVENT
BEGIN:VEVENT
DTSTART;TZID=UTC:20240110T103000
DTEND;TZID=UTC:20240110T123000
DTSTAMP:20260426T010230
CREATED:20231231T163142Z
LAST-MODIFIED:20231231T163142Z
UID:29645-1704882600-1704889800@sanctuaryofhealing.co.uk
SUMMARY:Spiritual Healing
DESCRIPTION:The Sanctuary of Healing\, is open to the public for spiritual healing every Wednesday morning between 10.30am and 12.30pm\, for a donation only
URL:https://sanctuaryofhealing.co.uk/event/spiritual-healing-294/
END:VEVENT
BEGIN:VEVENT
DTSTART;TZID=UTC:20240112T193000
DTEND;TZID=UTC:20240112T210000
DTSTAMP:20260426T010230
CREATED:20231231T163652Z
LAST-MODIFIED:20231231T164523Z
UID:29647-1705087800-1705093200@sanctuaryofhealing.co.uk
SUMMARY:Evening of Clairvoyance
DESCRIPTION:We are delighted to welcome back to the Sanctuary the excellent Medium\, Kevin Sansom for our Evening of Clairvoyance at 7.30pm on Friday 12th January 2024. We know that we will have an excellent demonstration of Spirit communication with Kevin. Admission is £3.00 for members and £4.00 for non-members
URL:https://sanctuaryofhealing.co.uk/event/evening-of-clairvoyance-244/
END:VEVENT
BEGIN:VEVENT
DTSTART;TZID=UTC:20240114T183000
DTEND;TZID=UTC:20240114T200000
DTSTAMP:20260426T010230
CREATED:20231231T164145Z
LAST-MODIFIED:20231231T164840Z
UID:29649-1705257000-1705262400@sanctuaryofhealing.co.uk
SUMMARY:Church Service
DESCRIPTION:We are delighted to welcome back to the Sanctuary the excellent Medium\, Linda Waddoups\, who is taking our church service at 6.30pm on Sunday 14th January 2024. We know that we will have a superb service and demonstration of Spirit communication with Linda.
URL:https://sanctuaryofhealing.co.uk/event/church-service-216/
END:VEVENT
BEGIN:VEVENT
DTSTART;TZID=UTC:20240117T103000
DTEND;TZID=UTC:20240117T123000
DTSTAMP:20260426T010230
CREATED:20231231T165217Z
LAST-MODIFIED:20231231T165217Z
UID:29655-1705487400-1705494600@sanctuaryofhealing.co.uk
SUMMARY:Spiritual Healing
DESCRIPTION:The Sanctuary of Healing\, is open to the public for spiritual healing every Wednesday morning between 10.30am and 12.30pm\, for a donation only
URL:https://sanctuaryofhealing.co.uk/event/spiritual-healing-296/
END:VEVENT
BEGIN:VEVENT
DTSTART;TZID=UTC:20240119T193000
DTEND;TZID=UTC:20240119T210000
DTSTAMP:20260426T010230
CREATED:20231231T165606Z
LAST-MODIFIED:20231231T171009Z
UID:29657-1705692600-1705698000@sanctuaryofhealing.co.uk
SUMMARY:Evening of Clairvoyance
DESCRIPTION:We are delighted to welcome back to the Sanctuary the superb Medium\, Kim Collier for our Evening of Clairvoyance at 7.30pm on Friday 19th January 2024. We know that we will have an excellent demonstration of Spirit communication with Kim. Admission is £3.00 for members and £4.00 for non-members
URL:https://sanctuaryofhealing.co.uk/event/evening-of-clairvoyance-245/
END:VEVENT
BEGIN:VEVENT
DTSTART;TZID=UTC:20240121T183000
DTEND;TZID=UTC:20240121T200000
DTSTAMP:20260426T010230
CREATED:20231231T165959Z
LAST-MODIFIED:20231231T165959Z
UID:29659-1705861800-1705867200@sanctuaryofhealing.co.uk
SUMMARY:Church Service
DESCRIPTION:We are delighted to welcome back to the Sanctuary the excellent Medium\, Paula Stevens\, who is taking our church service at 6.30pm on Sunday 21st January 2024. We know that we will have a superb service and demonstration of Spirit communication with Paula.
URL:https://sanctuaryofhealing.co.uk/event/church-service-217/
END:VEVENT
BEGIN:VEVENT
DTSTART;TZID=UTC:20240124T103000
DTEND;TZID=UTC:20240124T123000
DTSTAMP:20260426T010230
CREATED:20231231T170407Z
LAST-MODIFIED:20231231T170407Z
UID:29661-1706092200-1706099400@sanctuaryofhealing.co.uk
SUMMARY:Spiritual Healing
DESCRIPTION:The Sanctuary of Healing\, is open to the public for spiritual healing every Wednesday morning between 10.30am and 12.30pm\, for a donation only
URL:https://sanctuaryofhealing.co.uk/event/spiritual-healing-297/
END:VEVENT
BEGIN:VEVENT
DTSTART;TZID=UTC:20240126T193000
DTEND;TZID=UTC:20240126T210000
DTSTAMP:20260426T010230
CREATED:20231231T170851Z
LAST-MODIFIED:20231231T171934Z
UID:29663-1706297400-1706302800@sanctuaryofhealing.co.uk
SUMMARY:Evening of Clairvoyance
DESCRIPTION:We are delighted to welcome back to the Sanctuary the excellent Medium\,  Janet Mills for our Evening of Clairvoyance at 7.30pm on Friday 26th January 2024. We know that we will have an superb demonstration of Spirit communication with Janet. Admission is £3.00 for members and £4.00 for non-members
URL:https://sanctuaryofhealing.co.uk/event/evening-of-clairvoyance-246/
END:VEVENT
BEGIN:VEVENT
DTSTART;TZID=UTC:20240128T183000
DTEND;TZID=UTC:20240128T200000
DTSTAMP:20260426T010230
CREATED:20231231T171453Z
LAST-MODIFIED:20231231T171453Z
UID:29666-1706466600-1706472000@sanctuaryofhealing.co.uk
SUMMARY:Church Service
DESCRIPTION:We are delighted to welcome back to the Sanctuary the excellent Medium\, Stephen Graves\, who is taking our church service at 6.30pm on Sunday 28th January 2024. We know that we will have a superb service and demonstration of Spirit communication with Steve.
URL:https://sanctuaryofhealing.co.uk/event/church-service-218/
END:VEVENT
END:VCALENDAR